BEGIN:VCALENDAR
VERSION:2.0
PRODID:-//Volt Europa//Events//EN
CALSCALE:GREGORIAN
METHOD:PUBLISH
BEGIN:VEVENT
UID:wahlen-15-maerz-2026-1773558000@voltdeutschland.org
DTSTAMP:20260423T124710Z
DTSTART;TZID=Europe/Berlin:20260315T080000
DTEND;TZID=Europe/Berlin:20260315T180000
SUMMARY:Wähle Volt bei den Kommunalwahlen am 15. März in Hessen
DESCRIPTION:
LOCATION:Hessen
URL:https://voltdeutschland.org/veranstaltungen/wahlen-15-maerz-2026
END:VEVENT
END:VCALENDAR
