BEGIN:VCALENDAR
VERSION:2.0
PRODID:-//Volt Europa//Events//EN
CALSCALE:GREGORIAN
METHOD:PUBLISH
BEGIN:VEVENT
UID:wahlen-08-maerz-2026-1772953200@voltdeutschland.org
DTSTAMP:20260423T124110Z
DTSTART;TZID=Europe/Berlin:20260308T080000
DTEND;TZID=Europe/Berlin:20260308T180000
SUMMARY:Wähle Volt am 08. März in Baden-Württemberg und Bayern
DESCRIPTION:Volt tritt am 08. März 2026 bei den Kommunalwahlen in Bayern u
 nd den Landtagswahlen in Baden-Württemberg an. Erfahre mehr über unsere K
 andidierenden und ihre Wahlprogramme: Kommunalwahlen in Bayern Landtagswahl
  in Baden-Württemberg
LOCATION:Baden-Württemberg und Bayern
URL:https://voltdeutschland.org/veranstaltungen/wahlen-08-maerz-2026
END:VEVENT
END:VCALENDAR
