BEGIN:VCALENDAR
VERSION:2.0
PRODID:-//Volt Europa//Events//EN
CALSCALE:GREGORIAN
METHOD:PUBLISH
BEGIN:VEVENT
UID:general-assembly-2026-volt-europa-1781334000@voltdeutschland.org
DTSTAMP:20260422T100211Z
DTSTART;TZID=Europe/Berlin:20260613T090000
DTEND;TZID=Europe/Berlin:20260614T180000
SUMMARY:Generalversammlung (General Assembly) von Volt Europa
DESCRIPTION:Die nächste Generalversammlung von Volt Europa findet im Juni 
 in Bratislava statt. Alle Volter*innen sind herzlich willkommen. Erfahre me
 hr auf der Website von Volt Europa unter  https://volteuropa.org/events/vol
 t-europa-general-assembly-bratislava
LOCATION:Príkopova 6\, 831 03 Bratislava\, Slowakei
URL:https://voltdeutschland.org/veranstaltungen/general-assembly-2026-volt-
 europa
END:VEVENT
END:VCALENDAR
