BEGIN:VCALENDAR
VERSION:2.0
PRODID:-//Volt Europa//Events//EN
CALSCALE:GREGORIAN
METHOD:PUBLISH
BEGIN:VEVENT
UID:weltfrauentag-in-dithmarschen2-1772960400@voltdeutschland.org
DTSTAMP:20260424T175026Z
DTSTART;TZID=Europe/Berlin:20260308T100000
DTEND;TZID=Europe/Berlin:20260308T130000
SUMMARY:Weltfrauentag in Dithmarschen
DESCRIPTION:Am Südermarkt in Heide steht Volt Dithmarschen zum Weltfrauent
 ag. Unser Stand steht in der Nähe
LOCATION:Südermarkt\, Heide
URL:https://voltdeutschland.org/schleswig-holstein/veranstaltungen/weltfrau
 entag-in-dithmarschen2
END:VEVENT
END:VCALENDAR
