BEGIN:VCALENDAR
VERSION:2.0
PRODID:-//Volt Europa//Events//EN
CALSCALE:GREGORIAN
METHOD:PUBLISH
BEGIN:VEVENT
UID:volt-luebeck-beim-dgb-maifest-1777626000@voltdeutschland.org
DTSTAMP:20260421T101604Z
DTSTART;TZID=Europe/Berlin:20260501T110000
DTEND;TZID=Europe/Berlin:20260501T170000
SUMMARY:Volt LÃ¼beck beim DGB Maifest
DESCRIPTION:Am 1. Mai\, dem Tag der Arbeit\, sind wir als Volt mit einem In
 fostand auf dem DGB-Fest vertreten. FÃ¼r uns ist klar: Gute Arbeit\, sozial
 e Sicherheit und echte Chancengleichheit mÃ¼ssen im 21. Jahrhundert neu ged
 acht werden â€“ europÃ¤isch\, nachhaltig und gerecht. Wir setzen uns ein fÃ
 ¼r faire LÃ¶hne\, starke Arbeitnehmerrechte und eine Wirtschaft\, die den M
 enschen dient â€“ nicht umgekehrt. Gleichzeitig brauchen wir mutige Reforme
 n\, um den Herausforderungen unserer Zeit zu begegnen: Digitalisierung\, Kl
 imaw
LOCATION:Am DGB Gewerkschaftshaus
URL:https://voltdeutschland.org/schleswig-holstein/veranstaltungen/volt-lue
 beck-beim-dgb-maifest
END:VEVENT
END:VCALENDAR
