BEGIN:VCALENDAR
VERSION:2.0
PRODID:-//Volt Europa//Events//EN
CALSCALE:GREGORIAN
METHOD:PUBLISH
BEGIN:VEVENT
UID:neumuenster-infostand-europatag-1778308200@voltdeutschland.org
DTSTAMP:20260422T133945Z
DTSTART;TZID=Europe/Berlin:20260509T083000
DTEND;TZID=Europe/Berlin:20260509T110000
SUMMARY:Neumünster: Infostand Europatag
DESCRIPTION:💜 Du möchtest uns kennenlernen und mehr über Volt erfahren
 ? 💜 Dann komm an unserem Infostand zum Europatag vorbei! Dort kannst du 
 mehr über Volt\, unsere Werte und unsere Vision für Europa erfahren\, mit
  uns ins Gespräch kommen und alle deine Fragen stellen. Wir freuen uns dar
 auf\, dich kennenzulernen!
LOCATION:Großflecken / Lütjenstraße\, 24534 Neumünster
URL:https://voltdeutschland.org/schleswig-holstein/veranstaltungen/neumuens
 ter-infostand-europatag
END:VEVENT
END:VCALENDAR
