BEGIN:VCALENDAR
VERSION:2.0
PRODID:-//Volt Europa//Events//EN
CALSCALE:GREGORIAN
METHOD:PUBLISH
BEGIN:VEVENT
UID:meetgreet-wentorf-bei-hamburg-1777474800@voltdeutschland.org
DTSTAMP:20260421T101635Z
DTSTART;TZID=Europe/Berlin:20260429T170000
DTEND;TZID=Europe/Berlin:20260429T190000
SUMMARY:Meet&Greet Wentorf bei Hamburg
DESCRIPTION:💜 Du möchtest Volt kennenlernen? 💜 Du bist Mitglied oder
  Supporter und willst mal wieder vorbeischauen? 💜 Du hast Lust\, über a
 ktuelle (lokal-)politische Themen zu diskutieren? Dann komm zu uns\, wir fr
 euen uns auf dich! 🙌 Für eine bessere Planbarkeit bitten wir darum\, si
 ch  vorher anzumelden .
LOCATION:Wird nach Anmeldung bekanntgegeben
URL:https://voltdeutschland.org/schleswig-holstein/veranstaltungen/meetgree
 t-wentorf-bei-hamburg
END:VEVENT
END:VCALENDAR
