BEGIN:VCALENDAR
VERSION:2.0
PRODID:-//Volt Europa//Events//EN
CALSCALE:GREGORIAN
METHOD:PUBLISH
BEGIN:VEVENT
UID:meetgreet-volt-luebeck-3-1777107600@voltdeutschland.org
DTSTAMP:20260423T044344Z
DTSTART;TZID=Europe/Berlin:20260425T110000
DTEND;TZID=Europe/Berlin:20260425T130000
SUMMARY:Meet&Greet Volt Lübeck
DESCRIPTION:💜 Du möchtest Volt Lübeck kennenlernen? 💜 Du bist Mitgl
 ied oder Supporter und willst mal wieder vorbeischauen? 💜 Du hast Lust\,
  über aktuelle (lokal-)politische Themen zu diskutieren? Dann komm ins Jaw
 ed´s Remise ist in der Wahmstraße 43-45 in Lübeck. Komm gerne spontan vo
 rbei\, aber für eine bessere Planung freuen wir uns auch über eine vorher
 ige Anmeldung bei  Martin .  Wir freuen uns auf dich! 🙌
LOCATION:Jawed´s Remise\, Wahmstraße 43-45
URL:https://voltdeutschland.org/schleswig-holstein/veranstaltungen/meetgree
 t-volt-luebeck-3
END:VEVENT
END:VCALENDAR
