BEGIN:VCALENDAR
VERSION:2.0
PRODID:-//Volt Europa//Events//EN
CALSCALE:GREGORIAN
METHOD:PUBLISH
BEGIN:VEVENT
UID:meet-greet-nms-0308-1741455000@voltdeutschland.org
DTSTAMP:20260424T175025Z
DTSTART;TZID=Europe/Berlin:20250308T183000
DTEND;TZID=Europe/Berlin:20250308T203000
SUMMARY:Meet & Greet Neumünster
DESCRIPTION:Team Kreis Plön & Neumünster lädt ein zum Kennenlernen und D
 iskutieren. Wenn Du uns treffen und mehr über Volt erfahren möchtest\, is
 t das eine perfekte Möglichkeit. Du möchtest vorher Kontakt aufnehmen? Di
 es kannst Du bequem hier tun: Mail senden!
LOCATION:Klatsch Palais\, Großflecken 26A\, Neumünster
URL:https://voltdeutschland.org/schleswig-holstein/veranstaltungen/meet-gre
 et-nms-0308
END:VEVENT
END:VCALENDAR
