BEGIN:VCALENDAR
VERSION:2.0
PRODID:-//Volt Europa//Events//EN
CALSCALE:GREGORIAN
METHOD:PUBLISH
BEGIN:VEVENT
UID:meet-greet-kaltenkirchen-1762452000@voltdeutschland.org
DTSTAMP:20260423T194958Z
DTSTART;TZID=Europe/Berlin:20251106T190000
DTEND;TZID=Europe/Berlin:20251106T210000
SUMMARY:Meet & Greet Kaltenkirchen mit Volt Segeberg und Volt Neumünster
DESCRIPTION:Hast du Lust\, Volt besser kennenzulernen und mit uns über The
 men zu sprechen\, die dir wichtig sind? Oder möchtest du einfach einen spa
 nnenden Abend in guter Gesellschaft verbringen? Dann ist unser Meet & Greet
  genau das Richtige für dich!  In entspannter Atmosphäre bieten wir dir d
 ie Gelegenheit\, mehr über Volt\, unsere Ziele und unsere Vision für ein 
 geeintes Europa zu erfahren. Diskutiere mit uns\, tausche dich aus oder hö
 r einfach nur zu – alle sind willkommen!  Unser Meet & Greet findet regel
 m
LOCATION:Ristorante Da Franco\, Hamburger Str. 30\, 24568 Kaltenkirchen
URL:https://voltdeutschland.org/schleswig-holstein/veranstaltungen/meet-gre
 et-kaltenkirchen
END:VEVENT
END:VCALENDAR
