BEGIN:VCALENDAR
VERSION:2.0
PRODID:-//Volt Europa//Events//EN
CALSCALE:GREGORIAN
METHOD:PUBLISH
BEGIN:VEVENT
UID:meet-greet-flensburg-1756224000@voltdeutschland.org
DTSTAMP:20260423T194942Z
DTSTART;TZID=Europe/Berlin:20250826T180000
DTEND;TZID=Europe/Berlin:20250826T190000
SUMMARY:Meet & Greet Flensburg
DESCRIPTION:Moin zusammen\, wir treffen uns nächste Woche zum Meet & Greet
 : 📍Wo & wann? 26. August\, ab 18 Uhr\, im Ciao Bella\, Große Straße 83
  (ehemals Café Central) ❓Wofür dient dieses Treffen? 🔹Wir haben in d
 er letzten Zeit viele neue Mitglieder gewonnen und wollen uns untereinander
  besser kennenlernen bzw. austauschen. 🔹Wir wollen auch Interessierte ei
 nladen\, die noch kein Mitglied sind. 🔹Außerdem wollen wir unsere aktue
 lle Strategie mit Euch besprechen. 💜Ihr seid herzlich eingeladen! 💜
LOCATION:Ciao Bella Flensburg Nordermarkt\, Große Str. 83\, 24937 Flensbur
 g
URL:https://voltdeutschland.org/schleswig-holstein/veranstaltungen/meet-gre
 et-flensburg
END:VEVENT
END:VCALENDAR
