BEGIN:VCALENDAR
VERSION:2.0
PRODID:-//Volt Europa//Events//EN
CALSCALE:GREGORIAN
METHOD:PUBLISH
BEGIN:VEVENT
UID:infostand-listening-tour-in-norderstedt-de-gasperi-passage-1777104000@v
 oltdeutschland.org
DTSTAMP:20260421T101816Z
DTSTART;TZID=Europe/Berlin:20260425T100000
DTEND;TZID=Europe/Berlin:20260425T130000
SUMMARY:Norderstedt: Infostand/Listening Tour
DESCRIPTION:💜 Du willst uns gerne kennenlernen und mehr über Volt erfah
 ren? 💜 Dann komm zu unserem Infostand
LOCATION:De-Gasperi-Passage 1\, 22850 Norderstedt
URL:https://voltdeutschland.org/schleswig-holstein/veranstaltungen/infostan
 d-listening-tour-in-norderstedt-de-gasperi-passage
END:VEVENT
END:VCALENDAR
