BEGIN:VCALENDAR
VERSION:2.0
PRODID:-//Volt Europa//Events//EN
CALSCALE:GREGORIAN
METHOD:PUBLISH
BEGIN:VEVENT
UID:dithmarschen-treffen-heide-1777482000@voltdeutschland.org
DTSTAMP:20260425T234544Z
DTSTART;TZID=Europe/Berlin:20260429T190000
DTEND;TZID=Europe/Berlin:20260429T200000
SUMMARY:Dithmarschen Treffen
DESCRIPTION:Jeden Mittwoch trifft sich Volt Dithmarschen im Grill Maxx am S
 üdermarkt zum Plausch und zur Wochenplanung.
LOCATION:Grill Maxx\, Heide
URL:https://voltdeutschland.org/schleswig-holstein/veranstaltungen/dithmars
 chen-treffen-heide
END:VEVENT
END:VCALENDAR
