BEGIN:VCALENDAR
VERSION:2.0
PRODID:-//Volt Europa//Events//EN
CALSCALE:GREGORIAN
METHOD:PUBLISH
BEGIN:VEVENT
UID:dithmarschen-critical-1774630800@voltdeutschland.org
DTSTAMP:20260425T221043Z
DTSTART;TZID=Europe/Berlin:20260327T180000
DTEND;TZID=Europe/Berlin:20260327T190000
SUMMARY:Dithmarschen Critical Mass
DESCRIPTION:Wir treffen uns gemeinsam um an der Critical Mass in Heide teil
 zunehmen. Du erkennst uns an den lila Klamotten.  Los geht es um 18:00 an d
 er Neuen Anlage 5 vor dem Bürgerhaus in Heide. Nehmt euer Fahrrad mit und 
 kommt auf eine nette Tour vorbei.  Fragen? Dann melde dich bei  Florian
LOCATION:Neue Anlage 5\, Heide
URL:https://voltdeutschland.org/schleswig-holstein/veranstaltungen/dithmars
 chen-critical
END:VEVENT
END:VCALENDAR
