BEGIN:VCALENDAR
VERSION:2.0
PRODID:-//Volt Europa//Events//EN
CALSCALE:GREGORIAN
METHOD:PUBLISH
BEGIN:VEVENT
UID:meet-greet-grimma-2026-01-16-1768582800@voltdeutschland.org
DTSTAMP:20260423T081544Z
DTSTART;TZID=Europe/Berlin:20260116T180000
DTEND;TZID=Europe/Berlin:20260116T210000
SUMMARY:Meet & Greet Grimma
DESCRIPTION:
LOCATION:Hilli’s - grill & bar\, Lorenzstraße 13\, 04668 Grimma
URL:https://voltdeutschland.org/leipzig/veranstaltungen/meet-greet-grimma-2
 026-01-16
END:VEVENT
END:VCALENDAR
