BEGIN:VCALENDAR
VERSION:2.0
PRODID:-//Volt Europa//Events//EN
CALSCALE:GREGORIAN
METHOD:PUBLISH
BEGIN:VEVENT
UID:infostand-schkeuditz-2025-02-13-1739451600@voltdeutschland.org
DTSTAMP:20260421T190919Z
DTSTART;TZID=Europe/Berlin:20250213T140000
DTEND;TZID=Europe/Berlin:20250213T170000
SUMMARY:Infostand Schkeuditz
DESCRIPTION:
LOCATION:Markt\, 04435 Schkeuditz
URL:https://voltdeutschland.org/sachsen/veranstaltungen/infostand-schkeudit
 z-2025-02-13
END:VEVENT
END:VCALENDAR
