BEGIN:VCALENDAR
VERSION:2.0
PRODID:-//Volt Europa//Events//EN
CALSCALE:GREGORIAN
METHOD:PUBLISH
BEGIN:VEVENT
UID:event-buchlesung-in-dresden-mit-autor-stefan-brux-13_03_2025-1773421200
 @voltdeutschland.org
DTSTAMP:20260423T125221Z
DTSTART;TZID=Europe/Berlin:20260313T180000
DTEND;TZID=Europe/Berlin:20260313T210000
SUMMARY:Event: Buchlesung in Dresden mit Autor Stefan Brux | 13.03.2025 ab 
 18 Uhr
DESCRIPTION:Durch  Volt  und  die lila Schulbank  unterstütztes Event geme
 insam mit dem  Buchshop der Zuversicht :  Einladung vom Buchshop Wir organi
 sieren unsere erste  #Lesung ! Am  13.03.2025  wird  @StefanBrux  ab  18 Uh
 r  aus seiner  #Anaram -Trilogie vorlesen und uns dabei lebendige Einblicke
  in die Themen  #Krieg   #Afghanistan   #Veteranen  und  #Leben  unter Zwan
 g erlauben. Dazu wird uns das  https://www.restaurant-daniel.de  mit einer 
 Interpretation von landestypischem  #Essen  verköstigen\, um Euc
LOCATION:Restaurant Daniel Dresden Striesen\; Gluckstraße 3\; 01309 Dresde
 n
URL:https://voltdeutschland.org/sachsen/veranstaltungen/event-buchlesung-in
 -dresden-mit-autor-stefan-brux-13_03_2025
END:VEVENT
END:VCALENDAR
