BEGIN:VCALENDAR
VERSION:2.0
PRODID:-//Volt Europa//Events//EN
CALSCALE:GREGORIAN
METHOD:PUBLISH
BEGIN:VEVENT
UID:1_mai_borna_marktplatz_gewerkschaft_kundgebung-1777622400@voltdeutschla
 nd.org
DTSTAMP:20260421T100142Z
DTSTART;TZID=Europe/Berlin:20260501T100000
DTEND;TZID=Europe/Berlin:20260501T130000
SUMMARY:„Erst unsere Jobs\, dann eure Profite“
DESCRIPTION:Unter dem Motto „Erst unsere Jobs\, dann eure Profite“ zeig
 en wir uns am 1. Mai 2026 in Borna auf dem Marktplatz – kämpferisch\, so
 lidarisch und entschlossen. Erst unsere Jobs\, dann eure Profite – sicher
 e Arbeit und gute Perspektiven! Erst unsere Gesundheit\, dann eure Profite 
 – Hände weg vom 8-Stunden-Tag! Erst unsere Sicherheit\, dann eure Profit
 e – für eine starke Rente und gute Versorgung für alle! Erst unser beza
 hlbares Leben\, dann eure Profite – Schluss mit der Abzocke!
LOCATION:Borna\, Marktplatz
URL:https://voltdeutschland.org/sachsen/veranstaltungen/1_mai_borna_marktpl
 atz_gewerkschaft_kundgebung
END:VEVENT
END:VCALENDAR
