BEGIN:VCALENDAR
VERSION:2.0
PRODID:-//Volt Europa//Events//EN
CALSCALE:GREGORIAN
METHOD:PUBLISH
BEGIN:VEVENT
UID:meet-work-in-naumburg-1743339600@voltdeutschland.org
DTSTAMP:20260424T045825Z
DTSTART;TZID=Europe/Berlin:20250330T150000
DTEND;TZID=Europe/Berlin:20250330T173000
SUMMARY:Meet & Work in Naumburg
DESCRIPTION:Am Sonntag ist es wieder so weit: Unser nächstes 'Meet & Work'
  steht an! 💜Ab 15 Uhr 💜Café & Konditorei Block in Naumburg\, Markt 1
  💜Alle Interessierten aus dem Süden Sachsen-Anhalts sind herzlich einge
 laden\, bei Kaffee und Kuchen mit uns ins Gespräch zu kommen. 💜Lernt un
 s kennen\, bringt eure Fragen\, Ideen und Gedanken mit! Wir freuen uns auf 
 den Austausch mit euch!
LOCATION:Konditorei Block\, Markt 1\, Naumburg
URL:https://voltdeutschland.org/sachsen-anhalt/veranstaltungen/meet-work-in
 -naumburg
END:VEVENT
END:VCALENDAR
