BEGIN:VCALENDAR
VERSION:2.0
PRODID:-//Volt Europa//Events//EN
CALSCALE:GREGORIAN
METHOD:PUBLISH
BEGIN:VEVENT
UID:meet-greet-in-magdeburg-2026-04-08-1775664000@voltdeutschland.org
DTSTAMP:20260424T045909Z
DTSTART;TZID=Europe/Berlin:20260408T180000
DTEND;TZID=Europe/Berlin:20260408T193000
SUMMARY:Meet & Greet in Magdeburg
DESCRIPTION:💜  Volt Meet & Greet im Ernas in Magdeburg! Komm vorbei am 0
 8.04.26 um 18:00 Uhr – lern uns kennen\, tausch dich aus und genieße ein
 en entspannten Abend mit spannenden Gesprächen über Politik\, Europa und 
 Zukunftsideen. 🌍✨ 📍 Ernas Lebensmittelpunkt\, Annastraße 40\, 3910
 8 Magdeburg Wir freuen uns auf dich! 💬 Kontakt: info@voltsachsenanhalt.o
 rg
LOCATION:Ernas Lebensmittelpunkt\, Annastraße 40\, 39108 Magdeburg
URL:https://voltdeutschland.org/sachsen-anhalt/veranstaltungen/meet-greet-i
 n-magdeburg-2026-04-08
END:VEVENT
END:VCALENDAR
