BEGIN:VCALENDAR
VERSION:2.0
PRODID:-//Volt Europa//Events//EN
CALSCALE:GREGORIAN
METHOD:PUBLISH
BEGIN:VEVENT
UID:meet-greet-in-hallesaale-2026-03-05-1772733600@voltdeutschland.org
DTSTAMP:20260421T101751Z
DTSTART;TZID=Europe/Berlin:20260305T190000
DTEND;TZID=Europe/Berlin:20260305T210000
SUMMARY:Meet & Greet in Halle/Saale (05.03.2026)
DESCRIPTION:💜  Volt Meet & Greet im Lujah in Halle! Komm vorbei am 05.03
 .26 um 19:00 Uhr – lern uns kennen\, tausch dich aus und genieße einen e
 ntspannten Abend mit spannenden Gesprächen über Politik\, Europa und Zuku
 nftsideen. 🌍✨ 📍 Lujah\, Kleine Ulrichstraße 36\, 06108 Halle/Saale
  Wir freuen uns auf dich! 💬 Kontakt: info@voltsachsenanhalt.org
LOCATION:Lujah\, Kleine Ulrichstraße 36\, 06108 Halle/Saale
URL:https://voltdeutschland.org/sachsen-anhalt/veranstaltungen/meet-greet-i
 n-hallesaale-2026-03-05
END:VEVENT
END:VCALENDAR
