BEGIN:VCALENDAR
VERSION:2.0
PRODID:-//Volt Europa//Events//EN
CALSCALE:GREGORIAN
METHOD:PUBLISH
BEGIN:VEVENT
UID:csd-in-wernigerode-1780092000@voltdeutschland.org
DTSTAMP:20260421T101126Z
DTSTART;TZID=Europe/Berlin:20260530T000000
DTEND;TZID=Europe/Berlin:20260530T235900
SUMMARY:CSD in Wernigerode
DESCRIPTION:Wir sind laut\, wir sind sichtbar\, wir sind viele! Am 30.05. v
 ersammeln wir uns in Wernigerode\, um gemeinsam für unsere Rechte\, unsere
  Vielfalt und unsere Freiheit einzustehen. Der CSD ist mehr als eine Party 
 – er ist ein politischer Protest gegen Diskriminierung\, Queerfeindlichke
 it und Hass. Komm mit uns auf die Straße\, sprich mit uns am Stand\, erheb
 e deine Stimme und setze ein Zeichen: Für gleiche Rechte\, für Akzeptanz\
 , für ein Leben in Würde – unabhängig von Geschlecht\, Identität oder
  Liebe.
LOCATION:Wernigerode
URL:https://voltdeutschland.org/sachsen-anhalt/veranstaltungen/csd-in-werni
 gerode
END:VEVENT
END:VCALENDAR
