BEGIN:VCALENDAR
VERSION:2.0
PRODID:-//Volt Europa//Events//EN
CALSCALE:GREGORIAN
METHOD:PUBLISH
BEGIN:VEVENT
UID:csd-in-schoenebeck-1777068000@voltdeutschland.org
DTSTAMP:20260421T101429Z
DTSTART;TZID=Europe/Berlin:20260425T000000
DTEND;TZID=Europe/Berlin:20260425T235900
SUMMARY:CSD in Schönebeck
DESCRIPTION:Wir sind laut\, wir sind sichtbar\, wir sind viele! Am 25.04. v
 ersammeln wir uns in Schönebeck\, um gemeinsam für unsere Rechte\, unsere
  Vielfalt und unsere Freiheit einzustehen. Der CSD ist mehr als eine Party 
 – er ist ein politischer Protest gegen Diskriminierung\, Queerfeindlichke
 it und Hass. Komm mit uns auf die Straße\, sprich mit uns am Stand\, erheb
 e deine Stimme und setze ein Zeichen: Für gleiche Rechte\, für Akzeptanz\
 , für ein Leben in Würde – unabhängig von Geschlecht\, Identität oder
  Liebe.
LOCATION:Schönebeck
URL:https://voltdeutschland.org/sachsen-anhalt/veranstaltungen/csd-in-schoe
 nebeck
END:VEVENT
END:VCALENDAR
