BEGIN:VCALENDAR
VERSION:2.0
PRODID:-//Volt Europa//Events//EN
CALSCALE:GREGORIAN
METHOD:PUBLISH
BEGIN:VEVENT
UID:csd-in-dessau-1777672800@voltdeutschland.org
DTSTAMP:20260421T101301Z
DTSTART;TZID=Europe/Berlin:20260502T000000
DTEND;TZID=Europe/Berlin:20260502T235900
SUMMARY:CSD in Dessau
DESCRIPTION:Wir sind laut\, wir sind sichtbar\, wir sind viele! Am 02.05. v
 ersammeln wir uns in Dessau\, um gemeinsam für unsere Rechte\, unsere Viel
 falt und unsere Freiheit einzustehen. Der CSD ist mehr als eine Party – e
 r ist ein politischer Protest gegen Diskriminierung\, Queerfeindlichkeit un
 d Hass. Komm mit uns auf die Straße\, sprich mit uns am Stand\, erhebe dei
 ne Stimme und setze ein Zeichen: Für gleiche Rechte\, für Akzeptanz\, fü
 r ein Leben in Würde – unabhängig von Geschlecht\, Identität oder Lieb
 e.
LOCATION:Dessau
URL:https://voltdeutschland.org/sachsen-anhalt/veranstaltungen/csd-in-dessa
 u
END:VEVENT
END:VCALENDAR
