BEGIN:VCALENDAR
VERSION:2.0
PRODID:-//Volt Europa//Events//EN
CALSCALE:GREGORIAN
METHOD:PUBLISH
BEGIN:VEVENT
UID:online-meet-greet-270425-1745776800@voltdeutschland.org
DTSTAMP:20260422T135652Z
DTSTART;TZID=Europe/Berlin:20250427T200000
DTEND;TZID=Europe/Berlin:20250427T210000
SUMMARY:Online Meet & Greet
DESCRIPTION:Du möchtest Volt kennenlernen? Kein Problem! Neben unseren reg
 elmäßigen Treffen vor Ort bieten wir auch einmal im Monat ein  Online Mee
 t & Greet  an. Ganz entspannt von zuhause aus kannst du dabei sein\, Fragen
  stellen oder einfach zuhören. Den Link zum Meeting findest du wie immer  
 hier . Wir freuen uns auf dich!
LOCATION:Online
URL:https://voltdeutschland.org/saarland/veranstaltungen/online-meet-greet-
 270425
END:VEVENT
END:VCALENDAR
