BEGIN:VCALENDAR
VERSION:2.0
PRODID:-//Volt Europa//Events//EN
CALSCALE:GREGORIAN
METHOD:PUBLISH
BEGIN:VEVENT
UID:csd-saarlorlux-2025-1749283200@voltdeutschland.org
DTSTAMP:20260424T001509Z
DTSTART;TZID=Europe/Berlin:20250607T100000
DTEND;TZID=Europe/Berlin:20250608T180000
SUMMARY:CSD SaarLorLux 2025
DESCRIPTION:
LOCATION:Mainzer Straße\, 66111 Saarbrücken
URL:https://voltdeutschland.org/saarland/veranstaltungen/csd-saarlorlux-202
 5
END:VEVENT
END:VCALENDAR
