BEGIN:VCALENDAR
VERSION:2.0
PRODID:-//Volt Europa//Events//EN
CALSCALE:GREGORIAN
METHOD:PUBLISH
BEGIN:VEVENT
UID:meet-greet-wesel-1-1781715600@voltdeutschland.org
DTSTAMP:20260421T101347Z
DTSTART;TZID=Europe/Berlin:20260617T190000
DTEND;TZID=Europe/Berlin:20260617T220000
SUMMARY:Meet & Greet Wesel
DESCRIPTION:Wir treffen uns zu einem gemütlichen Beisammensein.  Eingelade
 n sind alle Mitglieder\, Supporter*innen aber auch alle Menschen\, die einf
 ach mal hinter den Vorhang bei Volt im Kreis Wesel schauen wollen.
LOCATION:Weseler Wirtshaus\, Berliner Tor Platz 1\, 46483 Wesel
URL:https://voltdeutschland.org/kreis-wesel/veranstaltungen/meet-greet-wese
 l-1
END:VEVENT
END:VCALENDAR
