BEGIN:VCALENDAR
VERSION:2.0
PRODID:-//Volt Europa//Events//EN
CALSCALE:GREGORIAN
METHOD:PUBLISH
BEGIN:VEVENT
UID:meet-greet-unna-unna-1778256900@voltdeutschland.org
DTSTAMP:20260421T101435Z
DTSTART;TZID=Europe/Berlin:20260508T181500
DTEND;TZID=Europe/Berlin:20260508T193000
SUMMARY:Triff uns in Unna: Meet & Greet
DESCRIPTION:Du möchtest die Zukunft aktiv mitgestalten? Dann komm zu unser
 em  Meet & Greet  und lerne Volt kennen! Wir sind eine  junge\, europaweite
  Bewegung \, die sich leidenschaftlich für eine  nachhaltige\, gerechte un
 d innovative Zukunft  einsetzt. Bei uns triffst du auf eine  offene und ent
 spannte Atmosphäre \, in der du alles über unsere Vision und unsere konkr
 eten Ziele für die kommende  Kommunalwahl  erfahren kannst. Egal\, ob du s
 chon Erfahrung hast oder einfach nur neugierig bist –  jeder ist herzlic
LOCATION:Morgentor\, Morgenstraße 15\, 59423 Unna
URL:https://voltdeutschland.org/ruhr/veranstaltungen/meet-greet-unna-unna
END:VEVENT
END:VCALENDAR
