BEGIN:VCALENDAR
VERSION:2.0
PRODID:-//Volt Europa//Events//EN
CALSCALE:GREGORIAN
METHOD:PUBLISH
BEGIN:VEVENT
UID:meet-greet-ruhr-hagen-2026-04-29-1777482000@voltdeutschland.org
DTSTAMP:20260421T101752Z
DTSTART;TZID=Europe/Berlin:20260429T190000
DTEND;TZID=Europe/Berlin:20260429T210000
SUMMARY:Meet & Greet - Hagen
DESCRIPTION:Volt Meet & Greet in Hagen – Offenes Treffen zum Kennenlernen
  Ein  Volt Meet & Greet in Hagen  ist ein offenes Treffen für alle\, die d
 ie politische Bewegung  Volt  in Hagen und der Region kennenlernen möchten
 . In lockerer Atmosphäre – ähnlich einem Stammtisch – kommen  Interes
 sierte\, Unterstützerinnen und Mitglieder  zusammen\, um sich auszutausche
 n und neue Menschen kennenzulernen. Stelle deine Fragen zu  Volt\, europäi
 scher Politik und lokalen Themen in Hagen \, diskutiere aktuelle Entwicklun
 gen 
LOCATION:Cafe & Bar Celona Hagen\, Friedrich-Ebert-Platz 3\, 58095 Hagen
URL:https://voltdeutschland.org/ruhr/veranstaltungen/meet-greet-ruhr-hagen-
 2026-04-29
END:VEVENT
END:VCALENDAR
