BEGIN:VCALENDAR
VERSION:2.0
PRODID:-//Volt Europa//Events//EN
CALSCALE:GREGORIAN
METHOD:PUBLISH
BEGIN:VEVENT
UID:meet-greet-moers-1-1778778000@voltdeutschland.org
DTSTAMP:20260421T101302Z
DTSTART;TZID=Europe/Berlin:20260514T190000
DTEND;TZID=Europe/Berlin:20260514T220000
SUMMARY:Meet & Greet Moers
DESCRIPTION:Komm und lerne die Moerserinnen und Moerser aus dem Team Wesel 
 kennen! Unsere M&G sind offen für jeden Menschen\, der sich mit uns austau
 schen möchte\, uns kennenlernen möchte oder einfach einen netten Plausch 
 halten möchte.
LOCATION:Grafschafter Wirtshaus\, Kastell 5\, 47441 Moers
URL:https://voltdeutschland.org/kreis-wesel/veranstaltungen/meet-greet-moer
 s-1
END:VEVENT
END:VCALENDAR
