BEGIN:VCALENDAR
VERSION:2.0
PRODID:-//Volt Europa//Events//EN
CALSCALE:GREGORIAN
METHOD:PUBLISH
BEGIN:VEVENT
UID:meet-greet-dinslaken-1-1784134800@voltdeutschland.org
DTSTAMP:20260421T101506Z
DTSTART;TZID=Europe/Berlin:20260715T190000
DTEND;TZID=Europe/Berlin:20260715T220000
SUMMARY:Meet & Greet Dinslaken
DESCRIPTION:Wir treffen uns zu einem gemütlichen Beisammensein.  Eingelade
 n sind alle Mitglieder\, Supporter*innen aber auch alle Menschen\, die einf
 ach mal hinter den Vorhang bei Volt im Kreis Wesel schauen wollen.
LOCATION:Maaß\, Am Neutor 1\, 46535 Dinslaken
URL:https://voltdeutschland.org/kreis-wesel/veranstaltungen/meet-greet-dins
 laken-1
END:VEVENT
END:VCALENDAR
