BEGIN:VCALENDAR
VERSION:2.0
PRODID:-//Volt Europa//Events//EN
CALSCALE:GREGORIAN
METHOD:PUBLISH
BEGIN:VEVENT
UID:infostand-unna-luenen-1777104000@voltdeutschland.org
DTSTAMP:20260421T101434Z
DTSTART;TZID=Europe/Berlin:20260425T100000
DTEND;TZID=Europe/Berlin:20260425T120000
SUMMARY:Lünen: Infostand in der Goldstraße
DESCRIPTION:Besuch uns am Infostand! Wir sind für dich da in der  Goldstra
 ße  (gleich vor dem Lederladen). Sprich uns einfach an – wir freuen uns 
 auf dich!
LOCATION:Lünen\, Goldstraße vor "der Lederladen"
URL:https://voltdeutschland.org/ruhr/veranstaltungen/infostand-unna-luenen
END:VEVENT
END:VCALENDAR
