BEGIN:VCALENDAR
VERSION:2.0
PRODID:-//Volt Europa//Events//EN
CALSCALE:GREGORIAN
METHOD:PUBLISH
BEGIN:VEVENT
UID:dortmund-meetgreet-2-2-1777568400@voltdeutschland.org
DTSTAMP:20260421T101254Z
DTSTART;TZID=Europe/Berlin:20260430T190000
DTEND;TZID=Europe/Berlin:20260430T220000
SUMMARY:Dortmund: Meet&Greet
DESCRIPTION:
LOCATION:Restaurant Brüderlich\, Kaiserstraße 92\, 44135 Dortmund
URL:https://voltdeutschland.org/ruhr/veranstaltungen/dortmund-meetgreet-2-2
END:VEVENT
END:VCALENDAR
