BEGIN:VCALENDAR
VERSION:2.0
PRODID:-//Volt Europa//Events//EN
CALSCALE:GREGORIAN
METHOD:PUBLISH
BEGIN:VEVENT
UID:walk-talk-1775577600@voltdeutschland.org
DTSTAMP:20260423T194314Z
DTSTART;TZID=Europe/Berlin:20260407T180000
DTEND;TZID=Europe/Berlin:20260407T200000
SUMMARY:Walk & Talk
DESCRIPTION:Der Volt District Rhein-Nahe trifft sich zum Walk & Talk an der
  Rheinpromenade in Bingen! Wir spazieren\, erzählen und schauen spontan\, 
 in welche Richtung es uns verschlägt. Infos zum Treffpunkt folgen.
LOCATION:Rheinpromenade Bingen
URL:https://voltdeutschland.org/rlp/veranstaltungen/walk-talk
END:VEVENT
END:VCALENDAR
