BEGIN:VCALENDAR
VERSION:2.0
PRODID:-//Volt Europa//Events//EN
CALSCALE:GREGORIAN
METHOD:PUBLISH
BEGIN:VEVENT
UID:volt-pfalz-infostand-in-landau-1-1739610000@voltdeutschland.org
DTSTAMP:20260421T190352Z
DTSTART;TZID=Europe/Berlin:20250215T100000
DTEND;TZID=Europe/Berlin:20250215T130000
SUMMARY:Volt Pfalz - Infostand in Landau
DESCRIPTION:Du willst uns näher kennenlernen? Dann komm zu unserem Infosta
 nd in Landau. Wir freuen uns auf dich und deine Fragen!
LOCATION:Rathausplatz\, Ecke Trappengasse
URL:https://voltdeutschland.org/rlp/veranstaltungen/volt-pfalz-infostand-in
 -landau-1
END:VEVENT
END:VCALENDAR
