BEGIN:VCALENDAR
VERSION:2.0
PRODID:-//Volt Europa//Events//EN
CALSCALE:GREGORIAN
METHOD:PUBLISH
BEGIN:VEVENT
UID:volt-mittelrhein-meet-greet-in-koblenz-feb26-1771176600@voltdeutschland
 .org
DTSTAMP:20260423T195154Z
DTSTART;TZID=Europe/Berlin:20260215T183000
DTEND;TZID=Europe/Berlin:20260215T220000
SUMMARY:Volt Mittelrhein - Meet&Greet in Koblenz
DESCRIPTION:Du interessierst dich für uns und willst uns näher kennenlern
 en? Dann komm zu unserem Meet&Greet. Wir freuen uns auf dich!
LOCATION:Restaurant OM\, Bechelstr. 23 56073 Koblenz
URL:https://voltdeutschland.org/rlp/veranstaltungen/volt-mittelrhein-meet-g
 reet-in-koblenz-feb26
END:VEVENT
END:VCALENDAR
