BEGIN:VCALENDAR
VERSION:2.0
PRODID:-//Volt Europa//Events//EN
CALSCALE:GREGORIAN
METHOD:PUBLISH
BEGIN:VEVENT
UID:meetgreet-1777050000@voltdeutschland.org
DTSTAMP:20260421T101048Z
DTSTART;TZID=Europe/Berlin:20260424T190000
DTEND;TZID=Europe/Berlin:20260424T213000
SUMMARY:Meet&Greet
DESCRIPTION:Weitere Infos folgen
LOCATION:Alzey/Worms TBA
URL:https://voltdeutschland.org/rlp/veranstaltungen/meetgreet
END:VEVENT
END:VCALENDAR
