BEGIN:VCALENDAR
VERSION:2.0
PRODID:-//Volt Europa//Events//EN
CALSCALE:GREGORIAN
METHOD:PUBLISH
BEGIN:VEVENT
UID:meet-greet-volt-pfalz-speyer-1734541200@voltdeutschland.org
DTSTAMP:20260422T185751Z
DTSTART;TZID=Europe/Berlin:20241218T180000
DTEND;TZID=Europe/Berlin:20241218T210000
SUMMARY:Volt Pfalz - Meet&Greet in Speyer
DESCRIPTION:Du interessierst dich für Volt und willst uns näher kennenler
 nen? Dann komm zu unserem Meet & Greet in Speyer! Wir freuen uns schon auf 
 dich!
LOCATION:Zur alten Münz\, Korngasse 1A\, 67346 Speyer
URL:https://voltdeutschland.org/rlp/veranstaltungen/meet-greet-volt-pfalz-s
 peyer
END:VEVENT
END:VCALENDAR
