BEGIN:VCALENDAR
VERSION:2.0
PRODID:-//Volt Europa//Events//EN
CALSCALE:GREGORIAN
METHOD:PUBLISH
BEGIN:VEVENT
UID:meet-greet-trier2-1733853600@voltdeutschland.org
DTSTAMP:20260421T190842Z
DTSTART;TZID=Europe/Berlin:20241210T190000
DTEND;TZID=Europe/Berlin:20241210T220000
SUMMARY:Volt Trier - Weihnachtliches Meet&Greet
DESCRIPTION:Du interessierst dich für Volt und möchtest uns näher kennen
 lernen? Dann komm in entspannter Atmosphäre zum Weihnachtsmarkt nach Trier
 ! Wir freuen uns auf dich!
LOCATION:Weihnachtsmarkt Trier (Treffpunkt: Domstein)
URL:https://voltdeutschland.org/rlp/veranstaltungen/meet-greet-trier2
END:VEVENT
END:VCALENDAR
