BEGIN:VCALENDAR
VERSION:2.0
PRODID:-//Volt Europa//Events//EN
CALSCALE:GREGORIAN
METHOD:PUBLISH
BEGIN:VEVENT
UID:meet-and-greet-in-bad-duerkheim-feb26-1770139800@voltdeutschland.org
DTSTAMP:20260423T195153Z
DTSTART;TZID=Europe/Berlin:20260203T183000
DTEND;TZID=Europe/Berlin:20260203T220000
SUMMARY:Meet&Greet in Bad Dürkheim
DESCRIPTION:Du interessierst dich für Volt und möchtest uns näher kennen
 lernen? Hier hast du die Chance\, uns deine Fragen zu stellen. Wir freuen u
 ns auf deine Fragen!
LOCATION:DieDa\, Gerberstraße 13\, 67098 Bad Dürkheim
URL:https://voltdeutschland.org/rlp/veranstaltungen/meet-and-greet-in-bad-d
 uerkheim-feb26
END:VEVENT
END:VCALENDAR
