BEGIN:VCALENDAR
VERSION:2.0
PRODID:-//Volt Europa//Events//EN
CALSCALE:GREGORIAN
METHOD:PUBLISH
BEGIN:VEVENT
UID:infostand-volt-sinzig-feb26-1771063200@voltdeutschland.org
DTSTAMP:20260423T194651Z
DTSTART;TZID=Europe/Berlin:20260214T110000
DTEND;TZID=Europe/Berlin:20260214T150000
SUMMARY:Volt Sinzig - Infostand
DESCRIPTION:Du interessierst dich für Volt und willst uns näher kennenler
 nen? Dann komm zu unserem Infostand in Sinzig! Wir informieren über unser 
 Wahlprogramm zur Landstagswahl am 22.03. und freuen uns schon auf dich!
LOCATION:Marktplatz\, Sinzig
URL:https://voltdeutschland.org/rlp/veranstaltungen/infostand-volt-sinzig-f
 eb26
END:VEVENT
END:VCALENDAR
