BEGIN:VCALENDAR
VERSION:2.0
PRODID:-//Volt Europa//Events//EN
CALSCALE:GREGORIAN
METHOD:PUBLISH
BEGIN:VEVENT
UID:infostand-volt-pruem-feb26-1772280000@voltdeutschland.org
DTSTAMP:20260425T174519Z
DTSTART;TZID=Europe/Berlin:20260228T130000
DTEND;TZID=Europe/Berlin:20260228T160000
SUMMARY:Volt Prüm - Infostand
DESCRIPTION:Du interessierst dich für Volt und willst uns näher kennenler
 nen? Dann komm zu unserem Infostand in Prüm! Wir informieren über unser W
 ahlprogramm zur Landstagswahl am 22.03.! Wir freuen uns schon auf dich!
LOCATION:Hahnplatz\, 54595 Prüm
URL:https://voltdeutschland.org/rlp/veranstaltungen/infostand-volt-pruem-fe
 b26
END:VEVENT
END:VCALENDAR
