BEGIN:VCALENDAR
VERSION:2.0
PRODID:-//Volt Europa//Events//EN
CALSCALE:GREGORIAN
METHOD:PUBLISH
BEGIN:VEVENT
UID:infostand-volt-koblenz-feb26-1771063200@voltdeutschland.org
DTSTAMP:20260423T194947Z
DTSTART;TZID=Europe/Berlin:20260214T110000
DTEND;TZID=Europe/Berlin:20260214T150000
SUMMARY:Volt Koblenz - Infostand
DESCRIPTION:Du interessierst dich für Volt und willst uns näher kennenler
 nen? Dann komm zu unserem Infostand in Koblenz! Wir informieren über unser
  Wahlprogramm. Wir freuen uns schon auf dich!
LOCATION:Karthause\, vorm Rewe-Markt\, 56075 Koblenz
URL:https://voltdeutschland.org/rlp/veranstaltungen/infostand-volt-koblenz-
 feb26
END:VEVENT
END:VCALENDAR
