BEGIN:VCALENDAR
VERSION:2.0
PRODID:-//Volt Europa//Events//EN
CALSCALE:GREGORIAN
METHOD:PUBLISH
BEGIN:VEVENT
UID:infostand-in-landau-1760167800@voltdeutschland.org
DTSTAMP:20260424T114711Z
DTSTART;TZID=Europe/Berlin:20251011T093000
DTEND;TZID=Europe/Berlin:20251011T130000
SUMMARY:Infostand in Landau
DESCRIPTION:Du möchtest uns näher kennenlernen? Dann komm zu unserem Info
 stand in Landau - wir freuen uns auf dich und deine Fragen!
LOCATION:Marktplatz\, Kronstraße Ecke Trappengasse\, Landau
URL:https://voltdeutschland.org/rlp/veranstaltungen/infostand-in-landau
END:VEVENT
END:VCALENDAR
