BEGIN:VCALENDAR
VERSION:2.0
PRODID:-//Volt Europa//Events//EN
CALSCALE:GREGORIAN
METHOD:PUBLISH
BEGIN:VEVENT
UID:2026-04-24_walk-talk-1777051800@voltdeutschland.org
DTSTAMP:20260421T191044Z
DTSTART;TZID=Europe/Berlin:20260424T193000
DTEND;TZID=Europe/Berlin:20260424T210000
SUMMARY:Walk & Talk
DESCRIPTION:Wir laufen gemeinsam zur Mühlbach Aue und enden dort gemütlic
 h.  Wer nicht mitlaufen kann/will ist herzlich eingeladen uns an der Mühlb
 ach Aue zu treffen.
LOCATION:Treffpunkt am Ortsausgang Wörrstatt\, Obere Saulheimer Straße
URL:https://voltdeutschland.org/rlp/veranstaltungen/2026-04-24_walk-talk
END:VEVENT
END:VCALENDAR
