BEGIN:VCALENDAR
VERSION:2.0
PRODID:-//Volt Europa//Events//EN
CALSCALE:GREGORIAN
METHOD:PUBLISH
BEGIN:VEVENT
UID:meet-greet-overath-1779123600@voltdeutschland.org
DTSTAMP:20260423T211344Z
DTSTART;TZID=Europe/Berlin:20260518T190000
DTEND;TZID=Europe/Berlin:20260518T210000
SUMMARY:Meet & Greet – Overath
DESCRIPTION:Seid gerne dabei und informiert euch über Volt. Auch werden wi
 r über unsere weiteren Planungen und Aktivitäten von Volt in unserer Regi
 on sprechen. Das Meet & Greet ist bei Volt in ganz Europa die Veranstaltung
 \, in der aktive Volter*innen sowie an Volt interessierte Bürger*innen zus
 ammenkommen\, um Volt kennenzulernen\, sich auszutauschen\, und über die Z
 iele von Volt zu diskutieren.  Erfahre hier\, was Volt ist\, was Volt als e
 uropäische Partei in Overath bewegen möchte und lerne uns kennen. Das Vol
LOCATION:coworking4you – Olper Straße 33 – 51491 Overath-Untereschbach
URL:https://voltdeutschland.org/rheinisch-bergischer-kreis/veranstaltungen/
 meet-greet-overath
END:VEVENT
END:VCALENDAR
