BEGIN:VCALENDAR
VERSION:2.0
PRODID:-//Volt Europa//Events//EN
CALSCALE:GREGORIAN
METHOD:PUBLISH
BEGIN:VEVENT
UID:buergerdialog-mit-volt-bielefeld-1777118400@voltdeutschland.org
DTSTAMP:20260422T041337Z
DTSTART;TZID=Europe/Berlin:20260425T140000
DTEND;TZID=Europe/Berlin:20260425T170000
SUMMARY:Bürgerdialog mit Volt Bielefeld
DESCRIPTION:Bürgerdialog in Bielefeld: Deine Ideen für unsere Stadt Wie s
 oll die Zukunft von Bielefeld aussehen? Welche Themen bewegen dich vor Ort?
  Am Samstag\, den 25. April 2026 von 14 bis 17 Uhr lädt Volt Bielefeld zum
  offenen Bürgerdialog im Grünen Würfel am Kesselbrink ein. Egal ob du Vo
 lt schon kennst\, dich für unsere Arbeit interessierst oder einfach Lust h
 ast\, über politische Themen in Bielefeld zu sprechen – du bist herzlich
  willkommen. Im Mittelpunkt steht der Austausch: Deine Ideen\, deine Perspe
 k
LOCATION:Grüner Würfel\, Kesselbrink 2\, 33602 Bielefeld
URL:https://voltdeutschland.org/nrw/veranstaltungen/buergerdialog-mit-volt-
 bielefeld
END:VEVENT
END:VCALENDAR
