BEGIN:VCALENDAR
VERSION:2.0
PRODID:-//Volt Europa//Events//EN
CALSCALE:GREGORIAN
METHOD:PUBLISH
BEGIN:VEVENT
UID:winschoten-10-x-10-km-staffellauf-130925-1757748600@voltdeutschland.org
DTSTAMP:20260422T041729Z
DTSTART;TZID=Europe/Berlin:20250913T093000
DTEND;TZID=Europe/Berlin:20250913T210000
SUMMARY:Winschoten: 10 x 10 km Staffellauf (NL)
DESCRIPTION:Die Volt Europa Läufer werden in Winschoten\, Groningen\, eine
 n Staffellauf über 10 × 10 km laufen! Nach Wettkämpfen in Brüssel\, Dar
 mstadt\, Paris\, Den Haag\, Bayreuth\, Luxemburg und Eindhoven sind nun die
  nördlichen Niederlande an der Reihe. Damit es ein echtes europäisches Te
 am wird\, sind nicht nur Läufer aus den Niederlanden\, sondern auch aus De
 utschland und Belgien dabei. Kommt gerne vorbei und feuert uns an! Wir werd
 en den ganzen Tag vor Ort sein und voraussichtlich gegen 19 Uhr (?) ins Zie
 l ko
LOCATION:Meester D.U. Stikkerlaan 6\, 9671 BZ Winschoten\, Niederlande
URL:https://voltdeutschland.org/niedersachsen/veranstaltungen/winschoten-10
 -x-10-km-staffellauf-130925
END:VEVENT
END:VCALENDAR
