BEGIN:VCALENDAR
VERSION:2.0
PRODID:-//Volt Europa//Events//EN
CALSCALE:GREGORIAN
METHOD:PUBLISH
BEGIN:VEVENT
UID:volt-cuxhaven-offenes-treffen-1779123600@voltdeutschland.org
DTSTAMP:20260421T234403Z
DTSTART;TZID=Europe/Berlin:20260518T190000
DTEND;TZID=Europe/Berlin:20260518T210000
SUMMARY:Offenes Treffen im Landkreis Cuxhaven
DESCRIPTION:Offenes Treffen Wohnst du in Cuxhaven oder Umgebung? Dann komm 
 gerne zu unserem offenen Treffen (Meet and Greet) im Restaurant Unikat. Wir
  freuen uns auf Dich!
LOCATION:Am 18.05. ab 19 Uhr im Restaurant Unikat in 27472 Cuxhaven
URL:https://voltdeutschland.org/niedersachsen/veranstaltungen/volt-cuxhaven
 -offenes-treffen
END:VEVENT
END:VCALENDAR
