BEGIN:VCALENDAR
VERSION:2.0
PRODID:-//Volt Europa//Events//EN
CALSCALE:GREGORIAN
METHOD:PUBLISH
BEGIN:VEVENT
UID:volt-cuxhaven-fahrradtour-1778317200@voltdeutschland.org
DTSTAMP:20260421T234402Z
DTSTART;TZID=Europe/Berlin:20260509T110000
DTEND;TZID=Europe/Berlin:20260509T130000
SUMMARY:Fahrradtour im Landkreis Cuxhaven
DESCRIPTION:Wohnst du in Cuxhaven oder Umgebung? Dann komm gerne zu unserer
  Fahrradtour im Mai! Wir starten am Marktplatz in Cuxhaven und fahren dann 
 gemeinsam los
LOCATION:Treffpunkt Marktplatz in Cuxhaven
URL:https://voltdeutschland.org/niedersachsen/veranstaltungen/volt-cuxhaven
 -fahrradtour
END:VEVENT
END:VCALENDAR
